BEGIN:VCALENDAR
VERSION:2.0
PRODID:-//Schützengesellschaft Dalbke und Umgegend e.V. - ECPv6.15.20//NONSGML v1.0//EN
CALSCALE:GREGORIAN
METHOD:PUBLISH
X-ORIGINAL-URL:https://sg-dalbke.de
X-WR-CALDESC:Veranstaltungen für Schützengesellschaft Dalbke und Umgegend e.V.
REFRESH-INTERVAL;VALUE=DURATION:PT1H
X-Robots-Tag:noindex
X-PUBLISHED-TTL:PT1H
BEGIN:VTIMEZONE
TZID:Europe/Berlin
BEGIN:DAYLIGHT
TZOFFSETFROM:+0100
TZOFFSETTO:+0200
TZNAME:CEST
DTSTART:20220327T010000
END:DAYLIGHT
BEGIN:STANDARD
TZOFFSETFROM:+0200
TZOFFSETTO:+0100
TZNAME:CET
DTSTART:20221030T010000
END:STANDARD
BEGIN:DAYLIGHT
TZOFFSETFROM:+0100
TZOFFSETTO:+0200
TZNAME:CEST
DTSTART:20230326T010000
END:DAYLIGHT
BEGIN:STANDARD
TZOFFSETFROM:+0200
TZOFFSETTO:+0100
TZNAME:CET
DTSTART:20231029T010000
END:STANDARD
BEGIN:DAYLIGHT
TZOFFSETFROM:+0100
TZOFFSETTO:+0200
TZNAME:CEST
DTSTART:20240331T010000
END:DAYLIGHT
BEGIN:STANDARD
TZOFFSETFROM:+0200
TZOFFSETTO:+0100
TZNAME:CET
DTSTART:20241027T010000
END:STANDARD
END:VTIMEZONE
BEGIN:VEVENT
DTSTART;TZID=Europe/Berlin:20230702T134500
DTEND;TZID=Europe/Berlin:20230702T180000
DTSTAMP:20260424T155549
CREATED:20230625T005508Z
LAST-MODIFIED:20230622T095702Z
UID:10047-1688305500-1688320800@sg-dalbke.de
SUMMARY:Schützenfest Oerlinghausen
DESCRIPTION:Details folgen
URL:https://sg-dalbke.de/event/schuetzenfest-oerlinghausen/
LOCATION:Rathausplatz\, Rathausplatz\, Oerlinghausen\, 33813
ATTACH;FMTTYPE=image/jpeg:https://sg-dalbke.de/wp-content/uploads/2023/04/DSC_4645-scaled.jpg
END:VEVENT
BEGIN:VEVENT
DTSTART;TZID=Europe/Berlin:20230709T140000
DTEND;TZID=Europe/Berlin:20230709T183000
DTSTAMP:20260424T155549
CREATED:20230626T203014Z
LAST-MODIFIED:20230703T162959Z
UID:10051-1688911200-1688927400@sg-dalbke.de
SUMMARY:Schützenfest Heepen
DESCRIPTION:Details folgen
URL:https://sg-dalbke.de/event/schuetzenfest-heepen/
LOCATION:Hassebrock\, Hassebrock\, Bielefeld\, 33719
ATTACH;FMTTYPE=image/jpeg:https://sg-dalbke.de/wp-content/uploads/2023/04/DSC_4825-scaled.jpg
END:VEVENT
END:VCALENDAR