BEGIN:VCALENDAR
VERSION:2.0
PRODID:-//Schützengesellschaft Dalbke und Umgegend e.V. - ECPv6.15.20//NONSGML v1.0//EN
CALSCALE:GREGORIAN
METHOD:PUBLISH
X-ORIGINAL-URL:https://sg-dalbke.de
X-WR-CALDESC:Veranstaltungen für Schützengesellschaft Dalbke und Umgegend e.V.
REFRESH-INTERVAL;VALUE=DURATION:PT1H
X-Robots-Tag:noindex
X-PUBLISHED-TTL:PT1H
BEGIN:VTIMEZONE
TZID:Europe/Paris
BEGIN:DAYLIGHT
TZOFFSETFROM:+0100
TZOFFSETTO:+0200
TZNAME:CEST
DTSTART:20250330T010000
END:DAYLIGHT
BEGIN:STANDARD
TZOFFSETFROM:+0200
TZOFFSETTO:+0100
TZNAME:CET
DTSTART:20251026T010000
END:STANDARD
BEGIN:DAYLIGHT
TZOFFSETFROM:+0100
TZOFFSETTO:+0200
TZNAME:CEST
DTSTART:20260329T010000
END:DAYLIGHT
BEGIN:STANDARD
TZOFFSETFROM:+0200
TZOFFSETTO:+0100
TZNAME:CET
DTSTART:20261025T010000
END:STANDARD
BEGIN:DAYLIGHT
TZOFFSETFROM:+0100
TZOFFSETTO:+0200
TZNAME:CEST
DTSTART:20270328T010000
END:DAYLIGHT
BEGIN:STANDARD
TZOFFSETFROM:+0200
TZOFFSETTO:+0100
TZNAME:CET
DTSTART:20271031T010000
END:STANDARD
END:VTIMEZONE
BEGIN:VTIMEZONE
TZID:Europe/Berlin
BEGIN:DAYLIGHT
TZOFFSETFROM:+0100
TZOFFSETTO:+0200
TZNAME:CEST
DTSTART:20250330T010000
END:DAYLIGHT
BEGIN:STANDARD
TZOFFSETFROM:+0200
TZOFFSETTO:+0100
TZNAME:CET
DTSTART:20251026T010000
END:STANDARD
BEGIN:DAYLIGHT
TZOFFSETFROM:+0100
TZOFFSETTO:+0200
TZNAME:CEST
DTSTART:20260329T010000
END:DAYLIGHT
BEGIN:STANDARD
TZOFFSETFROM:+0200
TZOFFSETTO:+0100
TZNAME:CET
DTSTART:20261025T010000
END:STANDARD
BEGIN:DAYLIGHT
TZOFFSETFROM:+0100
TZOFFSETTO:+0200
TZNAME:CEST
DTSTART:20270328T010000
END:DAYLIGHT
BEGIN:STANDARD
TZOFFSETFROM:+0200
TZOFFSETTO:+0100
TZNAME:CET
DTSTART:20271031T010000
END:STANDARD
END:VTIMEZONE
BEGIN:VEVENT
DTSTART;TZID=Europe/Paris:20260613T140000
DTEND;TZID=Europe/Paris:20260613T190000
DTSTAMP:20260420T133304
CREATED:20260222T103518Z
LAST-MODIFIED:20260222T103518Z
UID:18014-1781359200-1781377200@sg-dalbke.de
SUMMARY:Sennestadt VEREINt
DESCRIPTION:Am Samstag\, den 13.06.2026\, startet die Veranstaltung der Sennestädter Vereine unter dem Motto „Sennestadt VEREINt“. \nWir sind ebenfalls von 14:00 bis 19:00 Uhr vertreten. \nWir präsentieren uns sportlich mit unserem Lichtschießen und dem Blasrohrsport.\nAußerdem haben wir wieder die ein oder andere Überraschung vorbereitet.\nSeid gespannt!
URL:https://sg-dalbke.de/event/sennestadt-vereint-2/
LOCATION:Reichowplatz\, Reichowplatz\, Bielefeld\, 33689
ATTACH;FMTTYPE=image/jpeg:https://sg-dalbke.de/wp-content/uploads/2025/06/KiSch01.jpg
END:VEVENT
BEGIN:VEVENT
DTSTART;TZID=Europe/Paris:20260618T180000
DTEND;TZID=Europe/Paris:20260618T200000
DTSTAMP:20260420T133304
CREATED:20260104T112202Z
LAST-MODIFIED:20260104T112202Z
UID:17985-1781805600-1781812800@sg-dalbke.de
SUMMARY:Dalbker Schützentreff
DESCRIPTION:An jedem 3. Donnerstag im Monat ab 18:00 Uhr im Vereinsheim an der Paderborner Str. 331.
URL:https://sg-dalbke.de/event/dalbker-schuetzentreff-24/
LOCATION:Vereinsheim\, Paderborner Str. 331\, Bielefeld\, 33689\, Deutschland
END:VEVENT
BEGIN:VEVENT
DTSTART;TZID=Europe/Berlin:20260620T184500
DTEND;TZID=Europe/Berlin:20260620T234500
DTSTAMP:20260420T133304
CREATED:20251230T141258Z
LAST-MODIFIED:20251230T141258Z
UID:17949-1781981100-1781999100@sg-dalbke.de
SUMMARY:Schützenfest Liemke
DESCRIPTION:Wir treffen uns um 18:45 Uhr auf dem Dorfplatz/Kirchplatz in Liemke.
URL:https://sg-dalbke.de/event/schuetzenfest-liemke-3/
LOCATION:Liemke\, Kirchplatz
ATTACH;FMTTYPE=image/jpeg:https://sg-dalbke.de/wp-content/uploads/2023/04/IMG_5938-1-scaled.jpg
END:VEVENT
BEGIN:VEVENT
DTSTART;TZID=Europe/Paris:20260627T130000
DTEND;TZID=Europe/Paris:20260627T200000
DTSTAMP:20260420T133304
CREATED:20251230T141359Z
LAST-MODIFIED:20251230T141359Z
UID:17953-1782565200-1782590400@sg-dalbke.de
SUMMARY:20. Sommer-Biathlon
DESCRIPTION:Liebe Sportsfreunde /-innen\, \nwir können es kaum erwarten\, Sie beim diesjährigen Sommer-Biathlon begrüßen zu dürfen! Am Samstag\, den 27.  Juni 2026\, treffen wir uns erneut zentral im Herzen von Sennestadt auf der Maiwiese\, um den einzigen Biathlon-Wettbewerb Bielefelds gemeinsam zu erleben.
URL:https://sg-dalbke.de/event/20-sommer-biathlon/
LOCATION:Maiwiese in Sennestadt\, An der Maiwiese\, Bielefeld\, 33689
ATTACH;FMTTYPE=image/jpeg:https://sg-dalbke.de/wp-content/uploads/2024/06/Biathlon46.jpg
END:VEVENT
END:VCALENDAR