BEGIN:VCALENDAR
VERSION:2.0
PRODID:-//Schützengesellschaft Dalbke und Umgegend e.V. - ECPv6.15.20//NONSGML v1.0//EN
CALSCALE:GREGORIAN
METHOD:PUBLISH
X-WR-CALNAME:Schützengesellschaft Dalbke und Umgegend e.V.
X-ORIGINAL-URL:https://sg-dalbke.de
X-WR-CALDESC:Veranstaltungen für Schützengesellschaft Dalbke und Umgegend e.V.
REFRESH-INTERVAL;VALUE=DURATION:PT1H
X-Robots-Tag:noindex
X-PUBLISHED-TTL:PT1H
BEGIN:VTIMEZONE
TZID:Europe/Paris
BEGIN:DAYLIGHT
TZOFFSETFROM:+0100
TZOFFSETTO:+0200
TZNAME:CEST
DTSTART:20250330T010000
END:DAYLIGHT
BEGIN:STANDARD
TZOFFSETFROM:+0200
TZOFFSETTO:+0100
TZNAME:CET
DTSTART:20251026T010000
END:STANDARD
BEGIN:DAYLIGHT
TZOFFSETFROM:+0100
TZOFFSETTO:+0200
TZNAME:CEST
DTSTART:20260329T010000
END:DAYLIGHT
BEGIN:STANDARD
TZOFFSETFROM:+0200
TZOFFSETTO:+0100
TZNAME:CET
DTSTART:20261025T010000
END:STANDARD
BEGIN:DAYLIGHT
TZOFFSETFROM:+0100
TZOFFSETTO:+0200
TZNAME:CEST
DTSTART:20270328T010000
END:DAYLIGHT
BEGIN:STANDARD
TZOFFSETFROM:+0200
TZOFFSETTO:+0100
TZNAME:CET
DTSTART:20271031T010000
END:STANDARD
END:VTIMEZONE
BEGIN:VEVENT
DTSTART;TZID=Europe/Paris:20260219T180000
DTEND;TZID=Europe/Paris:20260219T200000
DTSTAMP:20260420T133137
CREATED:20260104T111935Z
LAST-MODIFIED:20260104T111935Z
UID:17977-1771524000-1771531200@sg-dalbke.de
SUMMARY:Dalbker Schützentreff
DESCRIPTION:An jedem 3. Donnerstag im Monat ab 18:00 Uhr im Vereinsheim an der Paderborner Str. 331.
URL:https://sg-dalbke.de/event/dalbker-schuetzentreff-20/
LOCATION:Vereinsheim\, Paderborner Str. 331\, Bielefeld\, 33689\, Deutschland
END:VEVENT
BEGIN:VEVENT
DTSTART;TZID=Europe/Paris:20260227T193000
DTEND;TZID=Europe/Paris:20260227T233000
DTSTAMP:20260420T133137
CREATED:20251230T140508Z
LAST-MODIFIED:20251230T142730Z
UID:17936-1772220600-1772235000@sg-dalbke.de
SUMMARY:Jahreshauptversammlung
DESCRIPTION:Freitag\, 27.02.2026\, um 19:30 Uhr im Bürgertreff des Sennestadthauses in Sennestadt. Offizielle Einladung und Tagesordnung s. unten in diesem Rundschreiben.
URL:https://sg-dalbke.de/event/jahreshauptversammlung/
LOCATION:Bürgertreff des Sennestadthaus\, Lindemann Platz 3\, Bielefeld\, 33689
ATTACH;FMTTYPE=image/jpeg:https://sg-dalbke.de/wp-content/uploads/2025/03/DSC_0003.jpg
END:VEVENT
END:VCALENDAR