BEGIN:VCALENDAR
VERSION:2.0
PRODID:-//Schützengesellschaft Dalbke und Umgegend e.V. - ECPv6.15.20//NONSGML v1.0//EN
CALSCALE:GREGORIAN
METHOD:PUBLISH
X-ORIGINAL-URL:https://sg-dalbke.de
X-WR-CALDESC:Veranstaltungen für Schützengesellschaft Dalbke und Umgegend e.V.
REFRESH-INTERVAL;VALUE=DURATION:PT1H
X-Robots-Tag:noindex
X-PUBLISHED-TTL:PT1H
BEGIN:VTIMEZONE
TZID:Europe/Berlin
BEGIN:DAYLIGHT
TZOFFSETFROM:+0100
TZOFFSETTO:+0200
TZNAME:CEST
DTSTART:20240331T010000
END:DAYLIGHT
BEGIN:STANDARD
TZOFFSETFROM:+0200
TZOFFSETTO:+0100
TZNAME:CET
DTSTART:20241027T010000
END:STANDARD
BEGIN:DAYLIGHT
TZOFFSETFROM:+0100
TZOFFSETTO:+0200
TZNAME:CEST
DTSTART:20250330T010000
END:DAYLIGHT
BEGIN:STANDARD
TZOFFSETFROM:+0200
TZOFFSETTO:+0100
TZNAME:CET
DTSTART:20251026T010000
END:STANDARD
BEGIN:DAYLIGHT
TZOFFSETFROM:+0100
TZOFFSETTO:+0200
TZNAME:CEST
DTSTART:20260329T010000
END:DAYLIGHT
BEGIN:STANDARD
TZOFFSETFROM:+0200
TZOFFSETTO:+0100
TZNAME:CET
DTSTART:20261025T010000
END:STANDARD
END:VTIMEZONE
BEGIN:VTIMEZONE
TZID:Europe/Paris
BEGIN:DAYLIGHT
TZOFFSETFROM:+0100
TZOFFSETTO:+0200
TZNAME:CEST
DTSTART:20240331T010000
END:DAYLIGHT
BEGIN:STANDARD
TZOFFSETFROM:+0200
TZOFFSETTO:+0100
TZNAME:CET
DTSTART:20241027T010000
END:STANDARD
BEGIN:DAYLIGHT
TZOFFSETFROM:+0100
TZOFFSETTO:+0200
TZNAME:CEST
DTSTART:20250330T010000
END:DAYLIGHT
BEGIN:STANDARD
TZOFFSETFROM:+0200
TZOFFSETTO:+0100
TZNAME:CET
DTSTART:20251026T010000
END:STANDARD
BEGIN:DAYLIGHT
TZOFFSETFROM:+0100
TZOFFSETTO:+0200
TZNAME:CEST
DTSTART:20260329T010000
END:DAYLIGHT
BEGIN:STANDARD
TZOFFSETFROM:+0200
TZOFFSETTO:+0100
TZNAME:CET
DTSTART:20261025T010000
END:STANDARD
END:VTIMEZONE
BEGIN:VEVENT
DTSTART;TZID=Europe/Berlin:20251116T103000
DTEND;TZID=Europe/Berlin:20251116T120000
DTSTAMP:20260422T142714
CREATED:20241229T125335Z
LAST-MODIFIED:20241229T125335Z
UID:16732-1763289000-1763294400@sg-dalbke.de
SUMMARY:Volkstrauertag
DESCRIPTION:Sonntag\, 16.11.2025\, um 10:30 Uhr\, am Vereinsheim an der Paderborner Straße. Wir treffen uns in Schützentracht\, um an unserem Gedenkstein einen Kranz niederzulegen.6
URL:https://sg-dalbke.de/event/volkstrauertag-3/
LOCATION:Vereinsheim\, Paderborner Str. 331\, Bielefeld\, 33689\, Deutschland
ATTACH;FMTTYPE=image/jpeg:https://sg-dalbke.de/wp-content/uploads/2024/11/IMG_0664.jpg
END:VEVENT
BEGIN:VEVENT
DTSTART;TZID=Europe/Paris:20251120T180000
DTEND;TZID=Europe/Paris:20251120T200000
DTSTAMP:20260422T142714
CREATED:20241229T130409Z
LAST-MODIFIED:20241229T130409Z
UID:16753-1763661600-1763668800@sg-dalbke.de
SUMMARY:Dalbker Schützentreff
DESCRIPTION:An jedem 3. Donnerstag im Monat ab 18:00 Uhr im Vereinsheim an der Paderborner Str. 331.
URL:https://sg-dalbke.de/event/dalbker-schuetzentreff-18/
LOCATION:Vereinsheim\, Paderborner Str. 331\, Bielefeld\, 33689\, Deutschland
END:VEVENT
BEGIN:VEVENT
DTSTART;TZID=Europe/Berlin:20251129T140000
DTEND;TZID=Europe/Berlin:20251129T200000
DTSTAMP:20260422T142714
CREATED:20241229T125453Z
LAST-MODIFIED:20241229T125453Z
UID:16735-1764424800-1764446400@sg-dalbke.de
SUMMARY:Weihnachtsmarkt Sennestadt
DESCRIPTION:Samstag\, 29.11.2025. Die Dalbker Schützen bereichern auch in diesem Jahr wieder die Vorweihnachtszeit in Sennestadt mit vielen Leckereien.
URL:https://sg-dalbke.de/event/weihnachtsmarkt-sennestadt-3/
LOCATION:Jesus-Christus-Kirche\, Fuldaweg 7\, Bielefeld\, 33689\, Deutschland
ATTACH;FMTTYPE=image/jpeg:https://sg-dalbke.de/wp-content/uploads/2023/04/013-scaled.jpeg
END:VEVENT
END:VCALENDAR