BEGIN:VCALENDAR
VERSION:2.0
PRODID:-//Schützengesellschaft Dalbke und Umgegend e.V. - ECPv6.15.20//NONSGML v1.0//EN
CALSCALE:GREGORIAN
METHOD:PUBLISH
X-ORIGINAL-URL:https://sg-dalbke.de
X-WR-CALDESC:Veranstaltungen für Schützengesellschaft Dalbke und Umgegend e.V.
REFRESH-INTERVAL;VALUE=DURATION:PT1H
X-Robots-Tag:noindex
X-PUBLISHED-TTL:PT1H
BEGIN:VTIMEZONE
TZID:Europe/Berlin
BEGIN:DAYLIGHT
TZOFFSETFROM:+0100
TZOFFSETTO:+0200
TZNAME:CEST
DTSTART:20230326T010000
END:DAYLIGHT
BEGIN:STANDARD
TZOFFSETFROM:+0200
TZOFFSETTO:+0100
TZNAME:CET
DTSTART:20231029T010000
END:STANDARD
BEGIN:DAYLIGHT
TZOFFSETFROM:+0100
TZOFFSETTO:+0200
TZNAME:CEST
DTSTART:20240331T010000
END:DAYLIGHT
BEGIN:STANDARD
TZOFFSETFROM:+0200
TZOFFSETTO:+0100
TZNAME:CET
DTSTART:20241027T010000
END:STANDARD
BEGIN:DAYLIGHT
TZOFFSETFROM:+0100
TZOFFSETTO:+0200
TZNAME:CEST
DTSTART:20250330T010000
END:DAYLIGHT
BEGIN:STANDARD
TZOFFSETFROM:+0200
TZOFFSETTO:+0100
TZNAME:CET
DTSTART:20251026T010000
END:STANDARD
END:VTIMEZONE
BEGIN:VEVENT
DTSTART;TZID=Europe/Berlin:20241214T153000
DTEND;TZID=Europe/Berlin:20241214T190000
DTSTAMP:20260423T131012
CREATED:20240402T165956Z
LAST-MODIFIED:20240402T165959Z
UID:15681-1734190200-1734202800@sg-dalbke.de
SUMMARY:Seniorenkaffeetrinken
DESCRIPTION:
URL:https://sg-dalbke.de/event/seniorenkaffeetrinken-2/
LOCATION:Vereinsheim\, Paderborner Str. 331\, Bielefeld\, 33689\, Deutschland
ATTACH;FMTTYPE=image/jpeg:https://sg-dalbke.de/wp-content/uploads/2023/12/DSC_0155-rotated.jpg
END:VEVENT
BEGIN:VEVENT
DTSTART;TZID=Europe/Berlin:20241215T140000
DTEND;TZID=Europe/Berlin:20241215T200000
DTSTAMP:20260423T131012
CREATED:20240402T170034Z
LAST-MODIFIED:20241112T100926Z
UID:15683-1734271200-1734292800@sg-dalbke.de
SUMMARY:Weihnachtsmarkt Lipperreihe
DESCRIPTION:Details folgen
URL:https://sg-dalbke.de/event/weihnachtsmarkt-lipperreihe-2/
LOCATION:Evangelisch-reformierte Kirchengemeinde Oerlinghausen\, Dalbker Str. 71\, Oerlinghausen\, 33813\, Deutschland
ATTACH;FMTTYPE=image/jpeg:https://sg-dalbke.de/wp-content/uploads/2023/04/015-2-scaled.jpg
END:VEVENT
END:VCALENDAR