BEGIN:VCALENDAR
VERSION:2.0
PRODID:-//Schützengesellschaft Dalbke und Umgegend e.V. - ECPv6.15.20//NONSGML v1.0//EN
CALSCALE:GREGORIAN
METHOD:PUBLISH
X-ORIGINAL-URL:https://sg-dalbke.de
X-WR-CALDESC:Veranstaltungen für Schützengesellschaft Dalbke und Umgegend e.V.
REFRESH-INTERVAL;VALUE=DURATION:PT1H
X-Robots-Tag:noindex
X-PUBLISHED-TTL:PT1H
BEGIN:VTIMEZONE
TZID:Europe/Berlin
BEGIN:DAYLIGHT
TZOFFSETFROM:+0100
TZOFFSETTO:+0200
TZNAME:CEST
DTSTART:20230326T010000
END:DAYLIGHT
BEGIN:STANDARD
TZOFFSETFROM:+0200
TZOFFSETTO:+0100
TZNAME:CET
DTSTART:20231029T010000
END:STANDARD
BEGIN:DAYLIGHT
TZOFFSETFROM:+0100
TZOFFSETTO:+0200
TZNAME:CEST
DTSTART:20240331T010000
END:DAYLIGHT
BEGIN:STANDARD
TZOFFSETFROM:+0200
TZOFFSETTO:+0100
TZNAME:CET
DTSTART:20241027T010000
END:STANDARD
BEGIN:DAYLIGHT
TZOFFSETFROM:+0100
TZOFFSETTO:+0200
TZNAME:CEST
DTSTART:20250330T010000
END:DAYLIGHT
BEGIN:STANDARD
TZOFFSETFROM:+0200
TZOFFSETTO:+0100
TZNAME:CET
DTSTART:20251026T010000
END:STANDARD
END:VTIMEZONE
BEGIN:VEVENT
DTSTART;TZID=Europe/Berlin:20240901T110000
DTEND;TZID=Europe/Berlin:20240901T160000
DTSTAMP:20260423T175823
CREATED:20240402T161718Z
LAST-MODIFIED:20240402T161733Z
UID:15668-1725188400-1725206400@sg-dalbke.de
SUMMARY:Tag der offenen Tür bei der Feuerwehr
DESCRIPTION:Die Freiwillige Feuerwehr\, Löschabteilung Sennestadt\, veranstaltet am Samstag\, 01.09.2024\, ihren traditionellen Tag der offenen Tür. Mit Deinem Besuch dankst Du den Feuerwehrkameraden für die geleistete starke Unterstützung zu unserem Schützenfest.
URL:https://sg-dalbke.de/event/tag-der-offenen-tuer-bei-der-feuerwehr-copy/
LOCATION:Feuerwehr Bielefeld – Löschabteilung Sennestadt\, Altmühlstraße 32\, Bielefeld\, 33689\, Deutschland
END:VEVENT
BEGIN:VEVENT
DTSTART;TZID=Europe/Berlin:20240913T200000
DTEND;TZID=Europe/Berlin:20240913T230000
DTSTAMP:20260423T175823
CREATED:20240402T161812Z
LAST-MODIFIED:20240402T161818Z
UID:15671-1726257600-1726268400@sg-dalbke.de
SUMMARY:Mitgliederversammlung
DESCRIPTION:Im Vereinsheim an der Paderborner Str. 331. Die Tagesordnung wird zu Beginn der Versammlung bekannt gegeben und durch die Anwesenden beschlossen.
URL:https://sg-dalbke.de/event/mitgliederversammlung-2/
LOCATION:Vereinsheim\, Paderborner Str. 331\, Bielefeld\, 33689\, Deutschland
ATTACH;FMTTYPE=image/jpeg:https://sg-dalbke.de/wp-content/uploads/2023/04/DSC_0029-1-scaled.jpg
END:VEVENT
BEGIN:VEVENT
DTSTART;TZID=Europe/Berlin:20240922T090000
DTEND;TZID=Europe/Berlin:20240922T120000
DTSTAMP:20260423T175823
CREATED:20240402T161922Z
LAST-MODIFIED:20240402T161922Z
UID:15673-1726995600-1727006400@sg-dalbke.de
SUMMARY:Herbstmeisterschaft
DESCRIPTION:
URL:https://sg-dalbke.de/event/herbstmeisterschaft-2/
LOCATION:Vereinsheim\, Paderborner Str. 331\, Bielefeld\, 33689\, Deutschland
ATTACH;FMTTYPE=image/jpeg:https://sg-dalbke.de/wp-content/uploads/2023/04/Herbstmeisterschaft-1-scaled.jpg
END:VEVENT
END:VCALENDAR