BEGIN:VCALENDAR
VERSION:2.0
PRODID:-//Schützengesellschaft Dalbke und Umgegend e.V. - ECPv6.15.20//NONSGML v1.0//EN
CALSCALE:GREGORIAN
METHOD:PUBLISH
X-WR-CALNAME:Schützengesellschaft Dalbke und Umgegend e.V.
X-ORIGINAL-URL:https://sg-dalbke.de
X-WR-CALDESC:Veranstaltungen für Schützengesellschaft Dalbke und Umgegend e.V.
REFRESH-INTERVAL;VALUE=DURATION:PT1H
X-Robots-Tag:noindex
X-PUBLISHED-TTL:PT1H
BEGIN:VTIMEZONE
TZID:Europe/Berlin
BEGIN:DAYLIGHT
TZOFFSETFROM:+0100
TZOFFSETTO:+0200
TZNAME:CEST
DTSTART:20230326T010000
END:DAYLIGHT
BEGIN:STANDARD
TZOFFSETFROM:+0200
TZOFFSETTO:+0100
TZNAME:CET
DTSTART:20231029T010000
END:STANDARD
BEGIN:DAYLIGHT
TZOFFSETFROM:+0100
TZOFFSETTO:+0200
TZNAME:CEST
DTSTART:20240331T010000
END:DAYLIGHT
BEGIN:STANDARD
TZOFFSETFROM:+0200
TZOFFSETTO:+0100
TZNAME:CET
DTSTART:20241027T010000
END:STANDARD
BEGIN:DAYLIGHT
TZOFFSETFROM:+0100
TZOFFSETTO:+0200
TZNAME:CEST
DTSTART:20250330T010000
END:DAYLIGHT
BEGIN:STANDARD
TZOFFSETFROM:+0200
TZOFFSETTO:+0100
TZNAME:CET
DTSTART:20251026T010000
END:STANDARD
END:VTIMEZONE
BEGIN:VEVENT
DTSTART;TZID=Europe/Berlin:20240707T134500
DTEND;TZID=Europe/Berlin:20240707T180000
DTSTAMP:20260423T202707
CREATED:20240402T160842Z
LAST-MODIFIED:20240402T160845Z
UID:15656-1720359900-1720375200@sg-dalbke.de
SUMMARY:Schützenfest Oerlinghausen
DESCRIPTION:Details folgen
URL:https://sg-dalbke.de/event/schuetzenfest-oerlinghausen-2/
LOCATION:Rathausplatz\, Rathausplatz\, Oerlinghausen\, 33813
ATTACH;FMTTYPE=image/jpeg:https://sg-dalbke.de/wp-content/uploads/2023/04/DSC_4645-scaled.jpg
END:VEVENT
BEGIN:VEVENT
DTSTART;TZID=Europe/Berlin:20240714T140000
DTEND;TZID=Europe/Berlin:20240714T183000
DTSTAMP:20260423T202707
CREATED:20240402T160940Z
LAST-MODIFIED:20240402T160943Z
UID:15659-1720965600-1720981800@sg-dalbke.de
SUMMARY:Schützenfest Heepen
DESCRIPTION:Details folgen
URL:https://sg-dalbke.de/event/schuetzenfest-heepen-2/
LOCATION:Hassebrock\, Hassebrock\, Bielefeld\, 33719
ATTACH;FMTTYPE=image/jpeg:https://sg-dalbke.de/wp-content/uploads/2023/04/DSC_4825-scaled.jpg
END:VEVENT
BEGIN:VEVENT
DTSTART;TZID=Europe/Berlin:20240720T180000
DTEND;TZID=Europe/Berlin:20240720T220000
DTSTAMP:20260423T202707
CREATED:20240402T161134Z
LAST-MODIFIED:20240402T161137Z
UID:15661-1721498400-1721512800@sg-dalbke.de
SUMMARY:Geselliger Vereinsabend
DESCRIPTION:Wir laden ein zu einem gemütlichen Beisammensein.
URL:https://sg-dalbke.de/event/geselliger-vereinsabend-2/
LOCATION:Vereinsheim\, Paderborner Str. 331\, Bielefeld\, 33689\, Deutschland
ATTACH;FMTTYPE=image/jpeg:https://sg-dalbke.de/wp-content/uploads/2023/07/DSC_0140-scaled.jpg
END:VEVENT
END:VCALENDAR