BEGIN:VCALENDAR
VERSION:2.0
PRODID:-//Schützengesellschaft Dalbke und Umgegend e.V. - ECPv6.15.20//NONSGML v1.0//EN
CALSCALE:GREGORIAN
METHOD:PUBLISH
X-WR-CALNAME:Schützengesellschaft Dalbke und Umgegend e.V.
X-ORIGINAL-URL:https://sg-dalbke.de
X-WR-CALDESC:Veranstaltungen für Schützengesellschaft Dalbke und Umgegend e.V.
REFRESH-INTERVAL;VALUE=DURATION:PT1H
X-Robots-Tag:noindex
X-PUBLISHED-TTL:PT1H
BEGIN:VTIMEZONE
TZID:Europe/Paris
BEGIN:DAYLIGHT
TZOFFSETFROM:+0100
TZOFFSETTO:+0200
TZNAME:CEST
DTSTART:20230326T010000
END:DAYLIGHT
BEGIN:STANDARD
TZOFFSETFROM:+0200
TZOFFSETTO:+0100
TZNAME:CET
DTSTART:20231029T010000
END:STANDARD
BEGIN:DAYLIGHT
TZOFFSETFROM:+0100
TZOFFSETTO:+0200
TZNAME:CEST
DTSTART:20240331T010000
END:DAYLIGHT
BEGIN:STANDARD
TZOFFSETFROM:+0200
TZOFFSETTO:+0100
TZNAME:CET
DTSTART:20241027T010000
END:STANDARD
BEGIN:DAYLIGHT
TZOFFSETFROM:+0100
TZOFFSETTO:+0200
TZNAME:CEST
DTSTART:20250330T010000
END:DAYLIGHT
BEGIN:STANDARD
TZOFFSETFROM:+0200
TZOFFSETTO:+0100
TZNAME:CET
DTSTART:20251026T010000
END:STANDARD
END:VTIMEZONE
BEGIN:VEVENT
DTSTART;TZID=Europe/Paris:20240127T160000
DTEND;TZID=Europe/Paris:20240127T223000
DTSTAMP:20260424T044419
CREATED:20240108T090235Z
LAST-MODIFIED:20240108T090235Z
UID:15047-1706371200-1706394600@sg-dalbke.de
SUMMARY:Film- und Klönabend
DESCRIPTION:Samstag\, 27.01.2024\, ab 16:00 Uhr im Vereinsheim an der Paderborner Str. 331. Nähere Einzelheiten folgen mit separatem Rundschreiben.
URL:https://sg-dalbke.de/event/film-und-kloenabend/
LOCATION:Vereinsheim\, Paderborner Str. 331\, Bielefeld\, 33689\, Deutschland
END:VEVENT
END:VCALENDAR